{
 "currentVersion": 10.91,
 "serviceDescription": "Hillshade",
 "name": "Elevation2",
 "description": "Hillshade",
 "extent": {
  "xmin": 2376780.9452559496,
  "ymin": 1278942.92551315,
  "xmax": 2511524.770256497,
  "ymax": 1455320.5255138667,
  "spatialReference": {
   "wkid": 102722,
   "latestWkid": 3734
  }
 },
 "initialExtent": {
  "xmin": 2376780.9452559496,
  "ymin": 1278942.92551315,
  "xmax": 2511524.770256497,
  "ymax": 1455320.5255138667,
  "spatialReference": {
   "wkid": 102722,
   "latestWkid": 3734
  }
 },
 "fullExtent": {
  "xmin": 2376780.9452559496,
  "ymin": 1278942.92551315,
  "xmax": 2511524.770256497,
  "ymax": 1455320.5255138667,
  "spatialReference": {
   "wkid": 102722,
   "latestWkid": 3734
  }
 },
 "pixelSizeX": 98.4250000003998,
 "pixelSizeY": 98.42500000039998,
 "bandCount": 1,
 "pixelType": "S16",
 "minPixelSize": 0,
 "maxPixelSize": 0,
 "copyrightText": "",
 "serviceDataType": "esriImageServiceDataTypeGeneric",
 "minValues": [
  568
 ],
 "maxValues": [
  1201
 ],
 "meanValues": [
  858.8688298125587
 ],
 "stdvValues": [
  173.88218006551114
 ],
 "objectIdField": "",
 "fields": [],
 "capabilities": "Image,Metadata,Mensuration",
 "defaultMosaicMethod": "Center",
 "allowedMosaicMethods": "",
 "sortField": "",
 "sortValue": null,
 "sortAscending": true,
 "mosaicOperator": "First",
 "defaultCompressionQuality": 75,
 "defaultResamplingMethod": "Bilinear",
 "maxImageHeight": 4100,
 "maxImageWidth": 15000,
 "allowRasterFunction": true,
 "rasterFunctionInfos": [
  {
   "name": "None",
   "description": "",
   "help": ""
  }
 ],
 "rasterTypeInfos": [
  {
   "name": "Raster Dataset",
   "description": "Supports all ArcGIS Raster Datasets",
   "help": ""
  }
 ],
 "mensurationCapabilities": "Basic",
 "hasHistograms": true,
 "hasColormap": false,
 "hasRasterAttributeTable": true,
 "minScale": 0,
 "maxScale": 0,
 "exportTilesAllowed": false,
 "hasMultidimensions": false,
 "supportsStatistics": false,
 "supportsAdvancedQueries": false,
 "editFieldsInfo": null,
 "ownershipBasedAccessControlForRasters": null,
 "allowComputeTiePoints": false,
 "useStandardizedQueries": true,
 "advancedQueryCapabilities": {
  "useStandardizedQueries": true,
  "supportsStatistics": false,
  "supportsOrderBy": false,
  "supportsDistinct": false,
  "supportsPagination": false
 },
 "spatialReference": {
  "wkid": 102722,
  "latestWkid": 3734
 }
}
