{
 "currentVersion": 10.91,
 "serviceDescription": "for visual ",
 "name": "GISData_DBO_Elevation_Hillshade",
 "description": "for visual ",
 "extent": {
  "xmin": 2374999.999999998,
  "ymin": 669999.9999999915,
  "xmax": 2515000.0000000005,
  "ymax": 854999.9999999972,
  "spatialReference": {
   "wkid": 3753,
   "latestWkid": 3753
  }
 },
 "initialExtent": {
  "xmin": 2374999.999999998,
  "ymin": 669999.9999999915,
  "xmax": 2515000.0000000005,
  "ymax": 854999.9999999972,
  "spatialReference": {
   "wkid": 3753,
   "latestWkid": 3753
  }
 },
 "fullExtent": {
  "xmin": 2374999.999999998,
  "ymin": 669999.9999999915,
  "xmax": 2515000.0000000005,
  "ymax": 854999.9999999972,
  "spatialReference": {
   "wkid": 3753,
   "latestWkid": 3753
  }
 },
 "pixelSizeX": 5,
 "pixelSizeY": 5,
 "bandCount": 1,
 "pixelType": "F32",
 "minPixelSize": 7.208121651252123,
 "maxPixelSize": 1845.2791427205434,
 "copyrightText": "",
 "serviceDataType": "esriImageServiceDataTypeGeneric",
 "minValues": [
  0
 ],
 "maxValues": [
  254
 ],
 "meanValues": [
  179.64438864594268
 ],
 "stdvValues": [
  10.447113338529107
 ],
 "objectIdField": "",
 "fields": [],
 "capabilities": "Image,Metadata,Mensuration",
 "defaultMosaicMethod": "Center",
 "allowedMosaicMethods": "",
 "sortField": "",
 "sortValue": null,
 "sortAscending": true,
 "mosaicOperator": "First",
 "defaultCompressionQuality": 75,
 "defaultResamplingMethod": "Bilinear",
 "maxImageHeight": 4100,
 "maxImageWidth": 15000,
 "singleFusedMapCache": true,
 "tileInfo": {
  "rows": 512,
  "cols": 512,
  "dpi": 96,
  "format": "PNG",
  "compressionQuality": 0,
  "origin": {
   "x": -1.1896347203290574E8,
   "y": 1.1364522665738976E8
  },
  "spatialReference": {
   "wkid": 3753,
   "latestWkid": 3753
  },
  "lods": [
   {
    "level": 0,
    "resolution": 472391.4605364591,
    "scale": 5.44194962538001E8
   },
   {
    "level": 1,
    "resolution": 236195.73026822956,
    "scale": 2.720974812690005E8
   },
   {
    "level": 2,
    "resolution": 118097.86513411478,
    "scale": 1.3604874063450024E8
   },
   {
    "level": 3,
    "resolution": 59048.93256705739,
    "scale": 6.802437031725012E7
   },
   {
    "level": 4,
    "resolution": 29524.466283528694,
    "scale": 3.401218515862506E7
   },
   {
    "level": 5,
    "resolution": 14762.233141764347,
    "scale": 1.700609257931253E7
   },
   {
    "level": 6,
    "resolution": 7381.116570882174,
    "scale": 8503046.289656265
   },
   {
    "level": 7,
    "resolution": 3690.558285441087,
    "scale": 4251523.144828132
   },
   {
    "level": 8,
    "resolution": 1845.2791427205434,
    "scale": 2125761.572414066
   },
   {
    "level": 9,
    "resolution": 922.6395713602717,
    "scale": 1062880.786207033
   },
   {
    "level": 10,
    "resolution": 461.31978568013585,
    "scale": 531440.3931035165
   },
   {
    "level": 11,
    "resolution": 230.65989284006793,
    "scale": 265720.1965517583
   },
   {
    "level": 12,
    "resolution": 115.32994642003396,
    "scale": 132860.09827587914
   },
   {
    "level": 13,
    "resolution": 57.66497321001698,
    "scale": 66430.04913793957
   },
   {
    "level": 14,
    "resolution": 28.83248660500849,
    "scale": 33215.024568969784
   },
   {
    "level": 15,
    "resolution": 14.416243302504245,
    "scale": 16607.512284484892
   },
   {
    "level": 16,
    "resolution": 7.208121651252123,
    "scale": 8303.756142242446
   },
   {
    "level": 17,
    "resolution": 3.6040608256260613,
    "scale": 4151.878071121223
   },
   {
    "level": 18,
    "resolution": 1.8020304128130307,
    "scale": 2075.9390355606115
   },
   {
    "level": 19,
    "resolution": 0.9010152064065153,
    "scale": 1037.9695177803058
   },
   {
    "level": 20,
    "resolution": 0.45050760320325767,
    "scale": 518.9847588901529
   },
   {
    "level": 21,
    "resolution": 0.22525380160162883,
    "scale": 259.49237944507644
   },
   {
    "level": 22,
    "resolution": 0.11262690080081442,
    "scale": 129.74618972253822
   },
   {
    "level": 23,
    "resolution": 0.05631345040040721,
    "scale": 64.87309486126911
   }
  ]
 },
 "cacheType": "Map",
 "allowRasterFunction": true,
 "rasterFunctionInfos": [
  {
   "name": "None",
   "description": "",
   "help": ""
  }
 ],
 "rasterTypeInfos": [
  {
   "name": "Raster Dataset",
   "description": "Supports all ArcGIS Raster Datasets",
   "help": ""
  }
 ],
 "mensurationCapabilities": "Basic",
 "hasHistograms": true,
 "hasColormap": false,
 "hasRasterAttributeTable": false,
 "minScale": 2125761.572414066,
 "maxScale": 8303.756142242446,
 "exportTilesAllowed": false,
 "hasMultidimensions": false,
 "supportsStatistics": false,
 "supportsAdvancedQueries": false,
 "editFieldsInfo": null,
 "ownershipBasedAccessControlForRasters": null,
 "allowComputeTiePoints": false,
 "useStandardizedQueries": true,
 "advancedQueryCapabilities": {
  "useStandardizedQueries": true,
  "supportsStatistics": false,
  "supportsOrderBy": false,
  "supportsDistinct": false,
  "supportsPagination": false
 },
 "spatialReference": {
  "wkid": 3753,
  "latestWkid": 3753
 }
}
