{
 "currentVersion": 10.91,
 "serviceDescription": "Hillshade",
 "name": "Hillshade",
 "description": "Hillshade",
 "extent": {
  "xmin": 2374999.999999999,
  "ymin": 670000.0000000003,
  "xmax": 2514999.999999999,
  "ymax": 855000.0000000003,
  "spatialReference": {
   "wkt": "PROJCS[\"NAD_1983_HARN_Lambert_Conformal_Conic\",GEOGCS[\"GCS_North_American_1983_HARN\",DATUM[\"D_North_American_1983_HARN\",SPHEROID[\"GRS_1980\",6378137.0,298.257222101]],PRIMEM[\"Greenwich\",0.0],UNIT[\"Degree\",0.0174532925199433]],PROJECTION[\"Lambert_Conformal_Conic\"],PARAMETER[\"False_Easting\",1968500.0],PARAMETER[\"False_Northing\",0.0],PARAMETER[\"Central_Meridian\",-82.5],PARAMETER[\"Standard_Parallel_1\",40.43333333333333],PARAMETER[\"Standard_Parallel_2\",41.7],PARAMETER[\"Latitude_Of_Origin\",39.66666666666666],UNIT[\"Foot_US\",0.3048006096012192]]"
  }
 },
 "initialExtent": {
  "xmin": 2374999.999999999,
  "ymin": 670000.0000000003,
  "xmax": 2514999.999999999,
  "ymax": 855000.0000000003,
  "spatialReference": {
   "wkt": "PROJCS[\"NAD_1983_HARN_Lambert_Conformal_Conic\",GEOGCS[\"GCS_North_American_1983_HARN\",DATUM[\"D_North_American_1983_HARN\",SPHEROID[\"GRS_1980\",6378137.0,298.257222101]],PRIMEM[\"Greenwich\",0.0],UNIT[\"Degree\",0.0174532925199433]],PROJECTION[\"Lambert_Conformal_Conic\"],PARAMETER[\"False_Easting\",1968500.0],PARAMETER[\"False_Northing\",0.0],PARAMETER[\"Central_Meridian\",-82.5],PARAMETER[\"Standard_Parallel_1\",40.43333333333333],PARAMETER[\"Standard_Parallel_2\",41.7],PARAMETER[\"Latitude_Of_Origin\",39.66666666666666],UNIT[\"Foot_US\",0.3048006096012192]]"
  }
 },
 "fullExtent": {
  "xmin": 2374999.999999999,
  "ymin": 670000.0000000003,
  "xmax": 2514999.999999999,
  "ymax": 855000.0000000003,
  "spatialReference": {
   "wkt": "PROJCS[\"NAD_1983_HARN_Lambert_Conformal_Conic\",GEOGCS[\"GCS_North_American_1983_HARN\",DATUM[\"D_North_American_1983_HARN\",SPHEROID[\"GRS_1980\",6378137.0,298.257222101]],PRIMEM[\"Greenwich\",0.0],UNIT[\"Degree\",0.0174532925199433]],PROJECTION[\"Lambert_Conformal_Conic\"],PARAMETER[\"False_Easting\",1968500.0],PARAMETER[\"False_Northing\",0.0],PARAMETER[\"Central_Meridian\",-82.5],PARAMETER[\"Standard_Parallel_1\",40.43333333333333],PARAMETER[\"Standard_Parallel_2\",41.7],PARAMETER[\"Latitude_Of_Origin\",39.66666666666666],UNIT[\"Foot_US\",0.3048006096012192]]"
  }
 },
 "pixelSizeX": 5,
 "pixelSizeY": 5,
 "bandCount": 1,
 "pixelType": "F32",
 "minPixelSize": 0,
 "maxPixelSize": 0,
 "copyrightText": "",
 "serviceDataType": "esriImageServiceDataTypeGeneric",
 "minValues": [
  0
 ],
 "maxValues": [
  254
 ],
 "meanValues": [
  179.64438864594268
 ],
 "stdvValues": [
  10.447113338529107
 ],
 "objectIdField": "",
 "fields": [],
 "capabilities": "Image,Metadata,Mensuration",
 "defaultMosaicMethod": "Center",
 "allowedMosaicMethods": "",
 "sortField": "",
 "sortValue": null,
 "sortAscending": true,
 "mosaicOperator": "First",
 "defaultCompressionQuality": 75,
 "defaultResamplingMethod": "Bilinear",
 "maxImageHeight": 4100,
 "maxImageWidth": 15000,
 "allowRasterFunction": true,
 "rasterFunctionInfos": [
  {
   "name": "None",
   "description": "",
   "help": ""
  }
 ],
 "rasterTypeInfos": [
  {
   "name": "Raster Dataset",
   "description": "Supports all ArcGIS Raster Datasets",
   "help": ""
  }
 ],
 "mensurationCapabilities": "Basic",
 "hasHistograms": true,
 "hasColormap": false,
 "hasRasterAttributeTable": false,
 "minScale": 0,
 "maxScale": 0,
 "exportTilesAllowed": false,
 "hasMultidimensions": false,
 "supportsStatistics": false,
 "supportsAdvancedQueries": false,
 "editFieldsInfo": null,
 "ownershipBasedAccessControlForRasters": null,
 "allowComputeTiePoints": false,
 "useStandardizedQueries": true,
 "advancedQueryCapabilities": {
  "useStandardizedQueries": true,
  "supportsStatistics": false,
  "supportsOrderBy": false,
  "supportsDistinct": false,
  "supportsPagination": false
 },
 "spatialReference": {
  "wkt": "PROJCS[\"NAD_1983_HARN_Lambert_Conformal_Conic\",GEOGCS[\"GCS_North_American_1983_HARN\",DATUM[\"D_North_American_1983_HARN\",SPHEROID[\"GRS_1980\",6378137.0,298.257222101]],PRIMEM[\"Greenwich\",0.0],UNIT[\"Degree\",0.0174532925199433]],PROJECTION[\"Lambert_Conformal_Conic\"],PARAMETER[\"False_Easting\",1968500.0],PARAMETER[\"False_Northing\",0.0],PARAMETER[\"Central_Meridian\",-82.5],PARAMETER[\"Standard_Parallel_1\",40.43333333333333],PARAMETER[\"Standard_Parallel_2\",41.7],PARAMETER[\"Latitude_Of_Origin\",39.66666666666666],UNIT[\"Foot_US\",0.3048006096012192]]"
 }
}
