{
 "currentVersion": 10.91,
 "serviceDescription": "uploaded on march 13 2020",
 "name": "Imagery/ATB_1979",
 "description": "uploaded on march 13 2020",
 "extent": {
  "xmin": 2376159.4950270867,
  "ymin": 671691.2584415874,
  "xmax": 2511310.9729842553,
  "ymax": 848797.8897456342,
  "spatialReference": {
   "wkt": "PROJCS[\"NAD_1983_Ohio_North_ftUS\",GEOGCS[\"GCS_North_American_1983\",DATUM[\"D_North_American_1983\",SPHEROID[\"GRS_1980\",6378137.0,298.257222101]],PRIMEM[\"Greenwich\",0.0],UNIT[\"Degree\",0.0174532925199433]],PROJECTION[\"Lambert_Conformal_Conic\"],PARAMETER[\"false_easting\",1968500.0],PARAMETER[\"false_northing\",0.0],PARAMETER[\"central_meridian\",-82.5],PARAMETER[\"standard_parallel_1\",40.43333333333333],PARAMETER[\"standard_parallel_2\",41.7],PARAMETER[\"latitude_of_origin\",39.66666666666666],UNIT[\"Foot_US\",0.3048006096012192]]"
  }
 },
 "initialExtent": {
  "xmin": 2376159.4950270867,
  "ymin": 671691.2584415874,
  "xmax": 2511310.9729842553,
  "ymax": 848797.8897456342,
  "spatialReference": {
   "wkt": "PROJCS[\"NAD_1983_Ohio_North_ftUS\",GEOGCS[\"GCS_North_American_1983\",DATUM[\"D_North_American_1983\",SPHEROID[\"GRS_1980\",6378137.0,298.257222101]],PRIMEM[\"Greenwich\",0.0],UNIT[\"Degree\",0.0174532925199433]],PROJECTION[\"Lambert_Conformal_Conic\"],PARAMETER[\"false_easting\",1968500.0],PARAMETER[\"false_northing\",0.0],PARAMETER[\"central_meridian\",-82.5],PARAMETER[\"standard_parallel_1\",40.43333333333333],PARAMETER[\"standard_parallel_2\",41.7],PARAMETER[\"latitude_of_origin\",39.66666666666666],UNIT[\"Foot_US\",0.3048006096012192]]"
  }
 },
 "fullExtent": {
  "xmin": 2376159.4950270867,
  "ymin": 671691.2584415874,
  "xmax": 2511310.9729842553,
  "ymax": 848797.8897456342,
  "spatialReference": {
   "wkt": "PROJCS[\"NAD_1983_Ohio_North_ftUS\",GEOGCS[\"GCS_North_American_1983\",DATUM[\"D_North_American_1983\",SPHEROID[\"GRS_1980\",6378137.0,298.257222101]],PRIMEM[\"Greenwich\",0.0],UNIT[\"Degree\",0.0174532925199433]],PROJECTION[\"Lambert_Conformal_Conic\"],PARAMETER[\"false_easting\",1968500.0],PARAMETER[\"false_northing\",0.0],PARAMETER[\"central_meridian\",-82.5],PARAMETER[\"standard_parallel_1\",40.43333333333333],PARAMETER[\"standard_parallel_2\",41.7],PARAMETER[\"latitude_of_origin\",39.66666666666666],UNIT[\"Foot_US\",0.3048006096012192]]"
  }
 },
 "pixelSizeX": 4.201818061780463,
 "pixelSizeY": 4.201818061780468,
 "bandCount": 1,
 "pixelType": "U8",
 "minPixelSize": 0,
 "maxPixelSize": 0,
 "copyrightText": "",
 "serviceDataType": "esriImageServiceDataTypeGeneric",
 "minValues": [
  10
 ],
 "maxValues": [
  255
 ],
 "meanValues": [
  123.08950086059
 ],
 "stdvValues": [
  51.98539763196
 ],
 "objectIdField": "",
 "fields": [],
 "capabilities": "Image,Metadata,Mensuration",
 "defaultMosaicMethod": "Center",
 "allowedMosaicMethods": "",
 "sortField": "",
 "sortValue": null,
 "sortAscending": true,
 "mosaicOperator": "First",
 "defaultCompressionQuality": 75,
 "defaultResamplingMethod": "Bilinear",
 "maxImageHeight": 4100,
 "maxImageWidth": 15000,
 "allowRasterFunction": true,
 "rasterFunctionInfos": [
  {
   "name": "None",
   "description": "",
   "help": ""
  }
 ],
 "rasterTypeInfos": [
  {
   "name": "Raster Dataset",
   "description": "Supports all ArcGIS Raster Datasets",
   "help": ""
  }
 ],
 "mensurationCapabilities": "Basic",
 "hasHistograms": true,
 "hasColormap": false,
 "hasRasterAttributeTable": false,
 "minScale": 0,
 "maxScale": 0,
 "exportTilesAllowed": false,
 "hasMultidimensions": false,
 "supportsStatistics": false,
 "supportsAdvancedQueries": false,
 "editFieldsInfo": null,
 "ownershipBasedAccessControlForRasters": null,
 "allowComputeTiePoints": false,
 "useStandardizedQueries": true,
 "advancedQueryCapabilities": {
  "useStandardizedQueries": true,
  "supportsStatistics": false,
  "supportsOrderBy": false,
  "supportsDistinct": false,
  "supportsPagination": false
 },
 "spatialReference": {
  "wkt": "PROJCS[\"NAD_1983_Ohio_North_ftUS\",GEOGCS[\"GCS_North_American_1983\",DATUM[\"D_North_American_1983\",SPHEROID[\"GRS_1980\",6378137.0,298.257222101]],PRIMEM[\"Greenwich\",0.0],UNIT[\"Degree\",0.0174532925199433]],PROJECTION[\"Lambert_Conformal_Conic\"],PARAMETER[\"false_easting\",1968500.0],PARAMETER[\"false_northing\",0.0],PARAMETER[\"central_meridian\",-82.5],PARAMETER[\"standard_parallel_1\",40.43333333333333],PARAMETER[\"standard_parallel_2\",41.7],PARAMETER[\"latitude_of_origin\",39.66666666666666],UNIT[\"Foot_US\",0.3048006096012192]]"
 }
}
