View In:
ArcGIS JavaScript
ArcGIS Online Map Viewer
ArcGIS Earth
ArcMap
View Footprint In:
ArcGIS Online Map Viewer
Service Description: Hillshade
Name: Elevation2
Description: Hillshade
Single Fused Map Cache: false
Extent:
XMin: 2376780.9452559496
YMin: 1278942.92551315
XMax: 2511524.770256497
YMax: 1455320.5255138667
Spatial Reference: 102722
(3734)
Initial Extent:
XMin: 2376780.9452559496
YMin: 1278942.92551315
XMax: 2511524.770256497
YMax: 1455320.5255138667
Spatial Reference: 102722
(3734)
Full Extent:
XMin: 2376780.9452559496
YMin: 1278942.92551315
XMax: 2511524.770256497
YMax: 1455320.5255138667
Spatial Reference: 102722
(3734)
Pixel Size X: 98.4250000003998
Pixel Size Y: 98.42500000039998
Band Count: 1
Pixel Type: S16
RasterFunction Infos: {"rasterFunctionInfos": [{
"name": "None",
"description": "",
"help": ""
}]}
Mensuration Capabilities: Basic
Has Histograms: true
Has Colormap: false
Has Multi Dimensions : false
Rendering Rule:
Min Scale: 0
Max Scale: 0
Copyright Text:
Service Data Type: esriImageServiceDataTypeGeneric
Min Values: 568
Max Values: 1201
Mean Values: 858.8688298125587
Standard Deviation Values: 173.88218006551114
Object ID Field:
Fields:
None
Default Mosaic Method: Center
Allowed Mosaic Methods:
SortField:
SortValue: null
Mosaic Operator: First
Default Compression Quality: 75
Default Resampling Method: Bilinear
Max Record Count: null
Max Image Height: 4100
Max Image Width: 15000
Max Download Image Count: null
Max Mosaic Image Count: null
Allow Raster Function: true
Allow Copy: null
Allow Analysis: null
Allow Compute TiePoints: false
Supports Statistics: false
Supports Advanced Queries: false
Use StandardizedQueries: true
Raster Type Infos:
Name: Raster Dataset
Description: Supports all ArcGIS Raster Datasets
Help:
Has Raster Attribute Table: true
Edit Fields Info: null
Ownership Based AccessControl For Rasters: null
Child Resources:
Info
Raster Attribute Table
Histograms
Key Properties
Legend
Raster Function Infos
Supported Operations:
Export Image
Identify
Measure
Compute Histograms
Compute Statistics Histograms
Get Samples
Compute Class Statistics
Query Boundary
Compute Pixel Location
Compute Angles
Validate
Project