View In:
ArcGIS JavaScript
ArcGIS Online Map Viewer
ArcGIS Earth
ArcMap
View Footprint In:
ArcGIS Online Map Viewer
Service Description: for visual
Name: GISData_DBO_Elevation_Hillshade
Description: for visual
Single Fused Map Cache: true
Tile Info:
- Height: 512
- Width: 512
- DPI: 96
-
Levels of Detail: 24
-
Level ID: 0
[ Start Tile, End Tile ]
- Resolution: 472391.4605364591
- Scale: 5.44194962538001E8
-
Level ID: 1
[ Start Tile, End Tile ]
- Resolution: 236195.73026822956
- Scale: 2.720974812690005E8
-
Level ID: 2
[ Start Tile, End Tile ]
- Resolution: 118097.86513411478
- Scale: 1.3604874063450024E8
-
Level ID: 3
[ Start Tile, End Tile ]
- Resolution: 59048.93256705739
- Scale: 6.802437031725012E7
-
Level ID: 4
[ Start Tile, End Tile ]
- Resolution: 29524.466283528694
- Scale: 3.401218515862506E7
-
Level ID: 5
[ Start Tile, End Tile ]
- Resolution: 14762.233141764347
- Scale: 1.700609257931253E7
-
Level ID: 6
[ Start Tile, End Tile ]
- Resolution: 7381.116570882174
- Scale: 8503046.289656265
-
Level ID: 7
[ Start Tile, End Tile ]
- Resolution: 3690.558285441087
- Scale: 4251523.144828132
-
Level ID: 8
[ Start Tile, End Tile ]
- Resolution: 1845.2791427205434
- Scale: 2125761.572414066
-
Level ID: 9
[ Start Tile, End Tile ]
- Resolution: 922.6395713602717
- Scale: 1062880.786207033
-
Level ID: 10
[ Start Tile, End Tile ]
- Resolution: 461.31978568013585
- Scale: 531440.3931035165
-
Level ID: 11
[ Start Tile, End Tile ]
- Resolution: 230.65989284006793
- Scale: 265720.1965517583
-
Level ID: 12
[ Start Tile, End Tile ]
- Resolution: 115.32994642003396
- Scale: 132860.09827587914
-
Level ID: 13
[ Start Tile, End Tile ]
- Resolution: 57.66497321001698
- Scale: 66430.04913793957
-
Level ID: 14
[ Start Tile, End Tile ]
- Resolution: 28.83248660500849
- Scale: 33215.024568969784
-
Level ID: 15
[ Start Tile, End Tile ]
- Resolution: 14.416243302504245
- Scale: 16607.512284484892
-
Level ID: 16
[ Start Tile, End Tile ]
- Resolution: 7.208121651252123
- Scale: 8303.756142242446
-
Level ID: 17
[ Start Tile, End Tile ]
- Resolution: 3.6040608256260613
- Scale: 4151.878071121223
-
Level ID: 18
[ Start Tile, End Tile ]
- Resolution: 1.8020304128130307
- Scale: 2075.9390355606115
-
Level ID: 19
[ Start Tile, End Tile ]
- Resolution: 0.9010152064065153
- Scale: 1037.9695177803058
-
Level ID: 20
[ Start Tile, End Tile ]
- Resolution: 0.45050760320325767
- Scale: 518.9847588901529
-
Level ID: 21
[ Start Tile, End Tile ]
- Resolution: 0.22525380160162883
- Scale: 259.49237944507644
-
Level ID: 22
[ Start Tile, End Tile ]
- Resolution: 0.11262690080081442
- Scale: 129.74618972253822
-
Level ID: 23
[ Start Tile, End Tile ]
- Resolution: 0.05631345040040721
- Scale: 64.87309486126911
- Format: PNG
- Compression Quality: 0.0
- LERC Error: NaN
- Origin: X: -1.1896347203290574E8
Y: 1.1364522665738976E8
- Spatial Reference: 3753
(3753)
Extent:
XMin: 2374999.999999998
YMin: 669999.9999999915
XMax: 2515000.0000000005
YMax: 854999.9999999972
Spatial Reference: 3753
(3753)
Initial Extent:
XMin: 2374999.999999998
YMin: 669999.9999999915
XMax: 2515000.0000000005
YMax: 854999.9999999972
Spatial Reference: 3753
(3753)
Full Extent:
XMin: 2374999.999999998
YMin: 669999.9999999915
XMax: 2515000.0000000005
YMax: 854999.9999999972
Spatial Reference: 3753
(3753)
Pixel Size X: 5.0
Pixel Size Y: 5.0
Band Count: 1
Pixel Type: F32
RasterFunction Infos: {"rasterFunctionInfos": [{
"name": "None",
"description": "",
"help": ""
}]}
Mensuration Capabilities: Basic
Has Histograms: true
Has Colormap: false
Has Multi Dimensions : false
Rendering Rule:
Min Scale: 2125761.572414066
Max Scale: 8303.756142242446
Copyright Text:
Service Data Type: esriImageServiceDataTypeGeneric
Min Values: 0
Max Values: 254
Mean Values: 179.64438864594268
Standard Deviation Values: 10.447113338529107
Object ID Field:
Fields:
None
Default Mosaic Method: Center
Allowed Mosaic Methods:
SortField:
SortValue: null
Mosaic Operator: First
Default Compression Quality: 75
Default Resampling Method: Bilinear
Max Record Count: null
Max Image Height: 4100
Max Image Width: 15000
Max Download Image Count: null
Max Mosaic Image Count: null
Allow Raster Function: true
Allow Copy: null
Allow Analysis: null
Allow Compute TiePoints: false
Supports Statistics: false
Supports Advanced Queries: false
Use StandardizedQueries: true
Raster Type Infos:
Name: Raster Dataset
Description: Supports all ArcGIS Raster Datasets
Help:
Has Raster Attribute Table: false
Edit Fields Info: null
Ownership Based AccessControl For Rasters: null
Child Resources:
Info
Histograms
Key Properties
Legend
Raster Function Infos
Supported Operations:
Export Image
Identify
Measure
Compute Histograms
Compute Statistics Histograms
Get Samples
Compute Class Statistics
Query Boundary
Compute Pixel Location
Compute Angles
Validate
Project