View In:
ArcGIS JavaScript
ArcGIS Online Map Viewer
ArcGIS Earth
ArcMap
View Footprint In:
ArcGIS Online Map Viewer
Service Description: Hillshade
Name: Hillshade
Description: Hillshade
Single Fused Map Cache: false
Extent:
XMin: 2374999.999999999
YMin: 670000.0000000003
XMax: 2514999.999999999
YMax: 855000.0000000003
Spatial Reference: PROJCS["NAD_1983_HARN_Lambert_Conformal_Conic",GEOGCS["GCS_North_American_1983_HARN",DATUM["D_North_American_1983_HARN",SPHEROID["GRS_1980",6378137.0,298.257222101]],PRIMEM["Greenwich",0.0],UNIT["Degree",0.0174532925199433]],PROJECTION["Lambert_Conformal_Conic"],PARAMETER["False_Easting",1968500.0],PARAMETER["False_Northing",0.0],PARAMETER["Central_Meridian",-82.5],PARAMETER["Standard_Parallel_1",40.43333333333333],PARAMETER["Standard_Parallel_2",41.7],PARAMETER["Latitude_Of_Origin",39.66666666666666],UNIT["Foot_US",0.3048006096012192]]
Initial Extent:
XMin: 2374999.999999999
YMin: 670000.0000000003
XMax: 2514999.999999999
YMax: 855000.0000000003
Spatial Reference: PROJCS["NAD_1983_HARN_Lambert_Conformal_Conic",GEOGCS["GCS_North_American_1983_HARN",DATUM["D_North_American_1983_HARN",SPHEROID["GRS_1980",6378137.0,298.257222101]],PRIMEM["Greenwich",0.0],UNIT["Degree",0.0174532925199433]],PROJECTION["Lambert_Conformal_Conic"],PARAMETER["False_Easting",1968500.0],PARAMETER["False_Northing",0.0],PARAMETER["Central_Meridian",-82.5],PARAMETER["Standard_Parallel_1",40.43333333333333],PARAMETER["Standard_Parallel_2",41.7],PARAMETER["Latitude_Of_Origin",39.66666666666666],UNIT["Foot_US",0.3048006096012192]]
Full Extent:
XMin: 2374999.999999999
YMin: 670000.0000000003
XMax: 2514999.999999999
YMax: 855000.0000000003
Spatial Reference: PROJCS["NAD_1983_HARN_Lambert_Conformal_Conic",GEOGCS["GCS_North_American_1983_HARN",DATUM["D_North_American_1983_HARN",SPHEROID["GRS_1980",6378137.0,298.257222101]],PRIMEM["Greenwich",0.0],UNIT["Degree",0.0174532925199433]],PROJECTION["Lambert_Conformal_Conic"],PARAMETER["False_Easting",1968500.0],PARAMETER["False_Northing",0.0],PARAMETER["Central_Meridian",-82.5],PARAMETER["Standard_Parallel_1",40.43333333333333],PARAMETER["Standard_Parallel_2",41.7],PARAMETER["Latitude_Of_Origin",39.66666666666666],UNIT["Foot_US",0.3048006096012192]]
Pixel Size X: 5.0
Pixel Size Y: 5.0
Band Count: 1
Pixel Type: F32
RasterFunction Infos: {"rasterFunctionInfos": [{
"name": "None",
"description": "",
"help": ""
}]}
Mensuration Capabilities: Basic
Has Histograms: true
Has Colormap: false
Has Multi Dimensions : false
Rendering Rule:
Min Scale: 0
Max Scale: 0
Copyright Text:
Service Data Type: esriImageServiceDataTypeGeneric
Min Values: 0
Max Values: 254
Mean Values: 179.64438864594268
Standard Deviation Values: 10.447113338529107
Object ID Field:
Fields:
None
Default Mosaic Method: Center
Allowed Mosaic Methods:
SortField:
SortValue: null
Mosaic Operator: First
Default Compression Quality: 75
Default Resampling Method: Bilinear
Max Record Count: null
Max Image Height: 4100
Max Image Width: 15000
Max Download Image Count: null
Max Mosaic Image Count: null
Allow Raster Function: true
Allow Copy: null
Allow Analysis: null
Allow Compute TiePoints: false
Supports Statistics: false
Supports Advanced Queries: false
Use StandardizedQueries: true
Raster Type Infos:
Name: Raster Dataset
Description: Supports all ArcGIS Raster Datasets
Help:
Has Raster Attribute Table: false
Edit Fields Info: null
Ownership Based AccessControl For Rasters: null
Child Resources:
Info
Histograms
Key Properties
Legend
Raster Function Infos
Supported Operations:
Export Image
Identify
Measure
Compute Histograms
Compute Statistics Histograms
Get Samples
Compute Class Statistics
Query Boundary
Compute Pixel Location
Compute Angles
Validate
Project