View In:
  ArcGIS JavaScript
  ArcGIS Online Map Viewer
  ArcGIS Earth
  ArcMap
View Footprint In:
  ArcGIS Online Map Viewer
Service Description:  uploaded on march 13 2020
Name:  Imagery/ATB_1979
Description:  uploaded on march 13 2020
Single Fused Map Cache:  false
Extent: 
XMin: 2376159.4950270867
YMin: 671691.2584415874
XMax: 2511310.9729842553
YMax: 848797.8897456342
Spatial Reference: PROJCS["NAD_1983_Ohio_North_ftUS",GEOGCS["GCS_North_American_1983",DATUM["D_North_American_1983",SPHEROID["GRS_1980",6378137.0,298.257222101]],PRIMEM["Greenwich",0.0],UNIT["Degree",0.0174532925199433]],PROJECTION["Lambert_Conformal_Conic"],PARAMETER["false_easting",1968500.0],PARAMETER["false_northing",0.0],PARAMETER["central_meridian",-82.5],PARAMETER["standard_parallel_1",40.43333333333333],PARAMETER["standard_parallel_2",41.7],PARAMETER["latitude_of_origin",39.66666666666666],UNIT["Foot_US",0.3048006096012192]]
Initial Extent:
XMin: 2376159.4950270867
YMin: 671691.2584415874
XMax: 2511310.9729842553
YMax: 848797.8897456342
Spatial Reference: PROJCS["NAD_1983_Ohio_North_ftUS",GEOGCS["GCS_North_American_1983",DATUM["D_North_American_1983",SPHEROID["GRS_1980",6378137.0,298.257222101]],PRIMEM["Greenwich",0.0],UNIT["Degree",0.0174532925199433]],PROJECTION["Lambert_Conformal_Conic"],PARAMETER["false_easting",1968500.0],PARAMETER["false_northing",0.0],PARAMETER["central_meridian",-82.5],PARAMETER["standard_parallel_1",40.43333333333333],PARAMETER["standard_parallel_2",41.7],PARAMETER["latitude_of_origin",39.66666666666666],UNIT["Foot_US",0.3048006096012192]]
Full Extent:
XMin: 2376159.4950270867
YMin: 671691.2584415874
XMax: 2511310.9729842553
YMax: 848797.8897456342
Spatial Reference: PROJCS["NAD_1983_Ohio_North_ftUS",GEOGCS["GCS_North_American_1983",DATUM["D_North_American_1983",SPHEROID["GRS_1980",6378137.0,298.257222101]],PRIMEM["Greenwich",0.0],UNIT["Degree",0.0174532925199433]],PROJECTION["Lambert_Conformal_Conic"],PARAMETER["false_easting",1968500.0],PARAMETER["false_northing",0.0],PARAMETER["central_meridian",-82.5],PARAMETER["standard_parallel_1",40.43333333333333],PARAMETER["standard_parallel_2",41.7],PARAMETER["latitude_of_origin",39.66666666666666],UNIT["Foot_US",0.3048006096012192]]
Pixel Size X: 4.201818061780463
Pixel Size Y:  4.201818061780468
Band Count: 1
Pixel Type: U8
RasterFunction Infos:  {"rasterFunctionInfos": [{
 "name": "None",
 "description": "",
 "help": ""
}]}
Mensuration Capabilities: Basic
Has Histograms:  true
Has Colormap:  false
Has Multi Dimensions :  false
Rendering Rule: 
Min Scale:  0
Max Scale:  0
Copyright Text:  
Service Data Type:  esriImageServiceDataTypeGeneric
Min Values:  10
Max Values:  255
Mean Values:  123.08950086059
Standard Deviation Values:  51.98539763196
Object ID Field:  
Fields: 
None
Default Mosaic Method:  Center
Allowed Mosaic Methods:  
SortField:  
SortValue:  null
Mosaic Operator:  First
Default Compression Quality:  75
Default Resampling Method:  Bilinear
Max Record Count:  null
Max Image Height:  4100
Max Image Width:  15000
Max Download Image Count:  null
Max Mosaic Image Count:  null
Allow Raster Function:  true
Allow Copy:  null
Allow Analysis:  null
Allow Compute TiePoints:  false
Supports Statistics:  false
Supports Advanced Queries:  false
Use StandardizedQueries:  true
Raster Type Infos: 
Name: Raster Dataset
Description: Supports all ArcGIS Raster Datasets
Help: 
Has Raster Attribute Table: false
Edit Fields Info:  null
Ownership Based AccessControl For Rasters:  null
Child Resources:
  
Info
  Histograms
  Key Properties
  Legend
  Raster Function Infos
Supported Operations:
  
Export Image
  Identify
  Measure
  Compute Histograms
  Compute Statistics Histograms
  Get Samples
  Compute Class Statistics
  Query Boundary
  Compute Pixel Location
  Compute Angles
  Validate
  Project